BEGIN:VCALENDAR
VERSION:2.0
PRODID:-//wp-events-plugin.com//6.6.1//EN
BEGIN:VEVENT
UID:3@nuxlabs.usc.edu.co
DTSTART:20200101T203000Z
DTEND:20200102T213000Z
DTSTAMP:20221021T140523Z
URL:https://nuxlabs.usc.edu.co/events/%e4%b8%ad%e5%bf%83%e7%ae%a1%e7%90%86
 %e4%be%8b%e4%bc%9a-2020-01-01/
SUMMARY:中心管理例会
DESCRIPTION:中心每周三晚20:30（北京时间）举行的中心管理
 例会
CATEGORIES:recurring
END:VEVENT
BEGIN:VEVENT
UID:4@nuxlabs.usc.edu.co
DTSTART:20200108T203000Z
DTEND:20200109T213000Z
DTSTAMP:20221021T140523Z
URL:https://nuxlabs.usc.edu.co/events/%e4%b8%ad%e5%bf%83%e7%ae%a1%e7%90%86
 %e4%be%8b%e4%bc%9a-2020-01-08/
SUMMARY:中心管理例会
DESCRIPTION:中心每周三晚20:30（北京时间）举行的中心管理
 例会
CATEGORIES:recurring
END:VEVENT
BEGIN:VEVENT
UID:5@nuxlabs.usc.edu.co
DTSTART:20200115T203000Z
DTEND:20200116T213000Z
DTSTAMP:20221021T140523Z
URL:https://nuxlabs.usc.edu.co/events/%e4%b8%ad%e5%bf%83%e7%ae%a1%e7%90%86
 %e4%be%8b%e4%bc%9a-2020-01-15/
SUMMARY:中心管理例会
DESCRIPTION:中心每周三晚20:30（北京时间）举行的中心管理
 例会
CATEGORIES:recurring
END:VEVENT
BEGIN:VEVENT
UID:6@nuxlabs.usc.edu.co
DTSTART:20200122T203000Z
DTEND:20200123T213000Z
DTSTAMP:20221021T140523Z
URL:https://nuxlabs.usc.edu.co/events/%e4%b8%ad%e5%bf%83%e7%ae%a1%e7%90%86
 %e4%be%8b%e4%bc%9a-2020-01-22/
SUMMARY:中心管理例会
DESCRIPTION:中心每周三晚20:30（北京时间）举行的中心管理
 例会
CATEGORIES:recurring
END:VEVENT
BEGIN:VEVENT
UID:7@nuxlabs.usc.edu.co
DTSTART:20200129T203000Z
DTEND:20200130T213000Z
DTSTAMP:20221021T140523Z
URL:https://nuxlabs.usc.edu.co/events/%e4%b8%ad%e5%bf%83%e7%ae%a1%e7%90%86
 %e4%be%8b%e4%bc%9a-2020-01-29/
SUMMARY:中心管理例会
DESCRIPTION:中心每周三晚20:30（北京时间）举行的中心管理
 例会
CATEGORIES:recurring
END:VEVENT
BEGIN:VEVENT
UID:8@nuxlabs.usc.edu.co
DTSTART:20200205T203000Z
DTEND:20200206T213000Z
DTSTAMP:20221021T140523Z
URL:https://nuxlabs.usc.edu.co/events/%e4%b8%ad%e5%bf%83%e7%ae%a1%e7%90%86
 %e4%be%8b%e4%bc%9a-2020-02-05/
SUMMARY:中心管理例会
DESCRIPTION:中心每周三晚20:30（北京时间）举行的中心管理
 例会
CATEGORIES:recurring
END:VEVENT
BEGIN:VEVENT
UID:9@nuxlabs.usc.edu.co
DTSTART:20200212T203000Z
DTEND:20200213T213000Z
DTSTAMP:20221021T140523Z
URL:https://nuxlabs.usc.edu.co/events/%e4%b8%ad%e5%bf%83%e7%ae%a1%e7%90%86
 %e4%be%8b%e4%bc%9a-2020-02-12/
SUMMARY:中心管理例会
DESCRIPTION:中心每周三晚20:30（北京时间）举行的中心管理
 例会
CATEGORIES:recurring
END:VEVENT
BEGIN:VEVENT
UID:10@nuxlabs.usc.edu.co
DTSTART:20200219T203000Z
DTEND:20200220T213000Z
DTSTAMP:20221021T140523Z
URL:https://nuxlabs.usc.edu.co/events/%e4%b8%ad%e5%bf%83%e7%ae%a1%e7%90%86
 %e4%be%8b%e4%bc%9a-2020-02-19/
SUMMARY:中心管理例会
DESCRIPTION:中心每周三晚20:30（北京时间）举行的中心管理
 例会
CATEGORIES:recurring
END:VEVENT
BEGIN:VEVENT
UID:11@nuxlabs.usc.edu.co
DTSTART:20200226T203000Z
DTEND:20200227T213000Z
DTSTAMP:20221021T140523Z
URL:https://nuxlabs.usc.edu.co/events/%e4%b8%ad%e5%bf%83%e7%ae%a1%e7%90%86
 %e4%be%8b%e4%bc%9a-2020-02-26/
SUMMARY:中心管理例会
DESCRIPTION:中心每周三晚20:30（北京时间）举行的中心管理
 例会
CATEGORIES:recurring
END:VEVENT
BEGIN:VEVENT
UID:12@nuxlabs.usc.edu.co
DTSTART:20200304T203000Z
DTEND:20200305T213000Z
DTSTAMP:20221021T140523Z
URL:https://nuxlabs.usc.edu.co/events/%e4%b8%ad%e5%bf%83%e7%ae%a1%e7%90%86
 %e4%be%8b%e4%bc%9a-2020-03-04/
SUMMARY:中心管理例会
DESCRIPTION:中心每周三晚20:30（北京时间）举行的中心管理
 例会
CATEGORIES:recurring
END:VEVENT
BEGIN:VEVENT
UID:13@nuxlabs.usc.edu.co
DTSTART:20200311T203000Z
DTEND:20200312T213000Z
DTSTAMP:20221021T140523Z
URL:https://nuxlabs.usc.edu.co/events/%e4%b8%ad%e5%bf%83%e7%ae%a1%e7%90%86
 %e4%be%8b%e4%bc%9a-2020-03-11/
SUMMARY:中心管理例会
DESCRIPTION:中心每周三晚20:30（北京时间）举行的中心管理
 例会
CATEGORIES:recurring
END:VEVENT
BEGIN:VEVENT
UID:14@nuxlabs.usc.edu.co
DTSTART:20200318T203000Z
DTEND:20200319T213000Z
DTSTAMP:20221021T140523Z
URL:https://nuxlabs.usc.edu.co/events/%e4%b8%ad%e5%bf%83%e7%ae%a1%e7%90%86
 %e4%be%8b%e4%bc%9a-2020-03-18/
SUMMARY:中心管理例会
DESCRIPTION:中心每周三晚20:30（北京时间）举行的中心管理
 例会
CATEGORIES:recurring
END:VEVENT
BEGIN:VEVENT
UID:15@nuxlabs.usc.edu.co
DTSTART:20200325T203000Z
DTEND:20200326T213000Z
DTSTAMP:20221021T140523Z
URL:https://nuxlabs.usc.edu.co/events/%e4%b8%ad%e5%bf%83%e7%ae%a1%e7%90%86
 %e4%be%8b%e4%bc%9a-2020-03-25/
SUMMARY:中心管理例会
DESCRIPTION:中心每周三晚20:30（北京时间）举行的中心管理
 例会
CATEGORIES:recurring
END:VEVENT
BEGIN:VEVENT
UID:16@nuxlabs.usc.edu.co
DTSTART:20200401T203000Z
DTEND:20200402T213000Z
DTSTAMP:20221021T140523Z
URL:https://nuxlabs.usc.edu.co/events/%e4%b8%ad%e5%bf%83%e7%ae%a1%e7%90%86
 %e4%be%8b%e4%bc%9a-2020-04-01/
SUMMARY:中心管理例会
DESCRIPTION:中心每周三晚20:30（北京时间）举行的中心管理
 例会
CATEGORIES:recurring
END:VEVENT
BEGIN:VEVENT
UID:17@nuxlabs.usc.edu.co
DTSTART:20200408T203000Z
DTEND:20200409T213000Z
DTSTAMP:20221021T140523Z
URL:https://nuxlabs.usc.edu.co/events/%e4%b8%ad%e5%bf%83%e7%ae%a1%e7%90%86
 %e4%be%8b%e4%bc%9a-2020-04-08/
SUMMARY:中心管理例会
DESCRIPTION:中心每周三晚20:30（北京时间）举行的中心管理
 例会
CATEGORIES:recurring
END:VEVENT
BEGIN:VEVENT
UID:18@nuxlabs.usc.edu.co
DTSTART:20200415T203000Z
DTEND:20200416T213000Z
DTSTAMP:20221021T140523Z
URL:https://nuxlabs.usc.edu.co/events/%e4%b8%ad%e5%bf%83%e7%ae%a1%e7%90%86
 %e4%be%8b%e4%bc%9a-2020-04-15/
SUMMARY:中心管理例会
DESCRIPTION:中心每周三晚20:30（北京时间）举行的中心管理
 例会
CATEGORIES:recurring
END:VEVENT
BEGIN:VEVENT
UID:19@nuxlabs.usc.edu.co
DTSTART:20200422T203000Z
DTEND:20200423T213000Z
DTSTAMP:20221021T140523Z
URL:https://nuxlabs.usc.edu.co/events/%e4%b8%ad%e5%bf%83%e7%ae%a1%e7%90%86
 %e4%be%8b%e4%bc%9a-2020-04-22/
SUMMARY:中心管理例会
DESCRIPTION:中心每周三晚20:30（北京时间）举行的中心管理
 例会
CATEGORIES:recurring
END:VEVENT
BEGIN:VEVENT
UID:20@nuxlabs.usc.edu.co
DTSTART:20200429T203000Z
DTEND:20200430T213000Z
DTSTAMP:20221021T140523Z
URL:https://nuxlabs.usc.edu.co/events/%e4%b8%ad%e5%bf%83%e7%ae%a1%e7%90%86
 %e4%be%8b%e4%bc%9a-2020-04-29/
SUMMARY:中心管理例会
DESCRIPTION:中心每周三晚20:30（北京时间）举行的中心管理
 例会
CATEGORIES:recurring
END:VEVENT
BEGIN:VEVENT
UID:21@nuxlabs.usc.edu.co
DTSTART:20200506T203000Z
DTEND:20200507T213000Z
DTSTAMP:20221021T140523Z
URL:https://nuxlabs.usc.edu.co/events/%e4%b8%ad%e5%bf%83%e7%ae%a1%e7%90%86
 %e4%be%8b%e4%bc%9a-2020-05-06/
SUMMARY:中心管理例会
DESCRIPTION:中心每周三晚20:30（北京时间）举行的中心管理
 例会
CATEGORIES:recurring
END:VEVENT
BEGIN:VEVENT
UID:22@nuxlabs.usc.edu.co
DTSTART:20200513T203000Z
DTEND:20200514T213000Z
DTSTAMP:20221021T140523Z
URL:https://nuxlabs.usc.edu.co/events/%e4%b8%ad%e5%bf%83%e7%ae%a1%e7%90%86
 %e4%be%8b%e4%bc%9a-2020-05-13/
SUMMARY:中心管理例会
DESCRIPTION:中心每周三晚20:30（北京时间）举行的中心管理
 例会
CATEGORIES:recurring
END:VEVENT
BEGIN:VEVENT
UID:23@nuxlabs.usc.edu.co
DTSTART:20200520T203000Z
DTEND:20200521T213000Z
DTSTAMP:20221021T140523Z
URL:https://nuxlabs.usc.edu.co/events/%e4%b8%ad%e5%bf%83%e7%ae%a1%e7%90%86
 %e4%be%8b%e4%bc%9a-2020-05-20/
SUMMARY:中心管理例会
DESCRIPTION:中心每周三晚20:30（北京时间）举行的中心管理
 例会
CATEGORIES:recurring
END:VEVENT
BEGIN:VEVENT
UID:24@nuxlabs.usc.edu.co
DTSTART:20200527T203000Z
DTEND:20200528T213000Z
DTSTAMP:20221021T140523Z
URL:https://nuxlabs.usc.edu.co/events/%e4%b8%ad%e5%bf%83%e7%ae%a1%e7%90%86
 %e4%be%8b%e4%bc%9a-2020-05-27/
SUMMARY:中心管理例会
DESCRIPTION:中心每周三晚20:30（北京时间）举行的中心管理
 例会
CATEGORIES:recurring
END:VEVENT
BEGIN:VEVENT
UID:25@nuxlabs.usc.edu.co
DTSTART:20200603T203000Z
DTEND:20200604T213000Z
DTSTAMP:20221021T140523Z
URL:https://nuxlabs.usc.edu.co/events/%e4%b8%ad%e5%bf%83%e7%ae%a1%e7%90%86
 %e4%be%8b%e4%bc%9a-2020-06-03/
SUMMARY:中心管理例会
DESCRIPTION:中心每周三晚20:30（北京时间）举行的中心管理
 例会
CATEGORIES:recurring
END:VEVENT
BEGIN:VEVENT
UID:26@nuxlabs.usc.edu.co
DTSTART:20200610T203000Z
DTEND:20200611T213000Z
DTSTAMP:20221021T140523Z
URL:https://nuxlabs.usc.edu.co/events/%e4%b8%ad%e5%bf%83%e7%ae%a1%e7%90%86
 %e4%be%8b%e4%bc%9a-2020-06-10/
SUMMARY:中心管理例会
DESCRIPTION:中心每周三晚20:30（北京时间）举行的中心管理
 例会
CATEGORIES:recurring
END:VEVENT
BEGIN:VEVENT
UID:27@nuxlabs.usc.edu.co
DTSTART:20200617T203000Z
DTEND:20200618T213000Z
DTSTAMP:20221021T140523Z
URL:https://nuxlabs.usc.edu.co/events/%e4%b8%ad%e5%bf%83%e7%ae%a1%e7%90%86
 %e4%be%8b%e4%bc%9a-2020-06-17/
SUMMARY:中心管理例会
DESCRIPTION:中心每周三晚20:30（北京时间）举行的中心管理
 例会
CATEGORIES:recurring
END:VEVENT
BEGIN:VEVENT
UID:28@nuxlabs.usc.edu.co
DTSTART:20200624T203000Z
DTEND:20200625T213000Z
DTSTAMP:20221021T140523Z
URL:https://nuxlabs.usc.edu.co/events/%e4%b8%ad%e5%bf%83%e7%ae%a1%e7%90%86
 %e4%be%8b%e4%bc%9a-2020-06-24/
SUMMARY:中心管理例会
DESCRIPTION:中心每周三晚20:30（北京时间）举行的中心管理
 例会
CATEGORIES:recurring
END:VEVENT
BEGIN:VEVENT
UID:29@nuxlabs.usc.edu.co
DTSTART:20200701T203000Z
DTEND:20200702T213000Z
DTSTAMP:20221021T140523Z
URL:https://nuxlabs.usc.edu.co/events/%e4%b8%ad%e5%bf%83%e7%ae%a1%e7%90%86
 %e4%be%8b%e4%bc%9a-2020-07-01/
SUMMARY:中心管理例会
DESCRIPTION:中心每周三晚20:30（北京时间）举行的中心管理
 例会
CATEGORIES:recurring
END:VEVENT
BEGIN:VEVENT
UID:30@nuxlabs.usc.edu.co
DTSTART:20200708T203000Z
DTEND:20200709T213000Z
DTSTAMP:20221021T140523Z
URL:https://nuxlabs.usc.edu.co/events/%e4%b8%ad%e5%bf%83%e7%ae%a1%e7%90%86
 %e4%be%8b%e4%bc%9a-2020-07-08/
SUMMARY:中心管理例会
DESCRIPTION:中心每周三晚20:30（北京时间）举行的中心管理
 例会
CATEGORIES:recurring
END:VEVENT
BEGIN:VEVENT
UID:31@nuxlabs.usc.edu.co
DTSTART:20200715T203000Z
DTEND:20200716T213000Z
DTSTAMP:20221021T140523Z
URL:https://nuxlabs.usc.edu.co/events/%e4%b8%ad%e5%bf%83%e7%ae%a1%e7%90%86
 %e4%be%8b%e4%bc%9a-2020-07-15/
SUMMARY:中心管理例会
DESCRIPTION:中心每周三晚20:30（北京时间）举行的中心管理
 例会
CATEGORIES:recurring
END:VEVENT
BEGIN:VEVENT
UID:32@nuxlabs.usc.edu.co
DTSTART:20200722T203000Z
DTEND:20200723T213000Z
DTSTAMP:20221021T140523Z
URL:https://nuxlabs.usc.edu.co/events/%e4%b8%ad%e5%bf%83%e7%ae%a1%e7%90%86
 %e4%be%8b%e4%bc%9a-2020-07-22/
SUMMARY:中心管理例会
DESCRIPTION:中心每周三晚20:30（北京时间）举行的中心管理
 例会
CATEGORIES:recurring
END:VEVENT
BEGIN:VEVENT
UID:33@nuxlabs.usc.edu.co
DTSTART:20200729T203000Z
DTEND:20200730T213000Z
DTSTAMP:20221021T140523Z
URL:https://nuxlabs.usc.edu.co/events/%e4%b8%ad%e5%bf%83%e7%ae%a1%e7%90%86
 %e4%be%8b%e4%bc%9a-2020-07-29/
SUMMARY:中心管理例会
DESCRIPTION:中心每周三晚20:30（北京时间）举行的中心管理
 例会
CATEGORIES:recurring
END:VEVENT
BEGIN:VEVENT
UID:34@nuxlabs.usc.edu.co
DTSTART:20200805T203000Z
DTEND:20200806T213000Z
DTSTAMP:20221021T140523Z
URL:https://nuxlabs.usc.edu.co/events/%e4%b8%ad%e5%bf%83%e7%ae%a1%e7%90%86
 %e4%be%8b%e4%bc%9a-2020-08-05/
SUMMARY:中心管理例会
DESCRIPTION:中心每周三晚20:30（北京时间）举行的中心管理
 例会
CATEGORIES:recurring
END:VEVENT
BEGIN:VEVENT
UID:35@nuxlabs.usc.edu.co
DTSTART:20200812T203000Z
DTEND:20200813T213000Z
DTSTAMP:20221021T140523Z
URL:https://nuxlabs.usc.edu.co/events/%e4%b8%ad%e5%bf%83%e7%ae%a1%e7%90%86
 %e4%be%8b%e4%bc%9a-2020-08-12/
SUMMARY:中心管理例会
DESCRIPTION:中心每周三晚20:30（北京时间）举行的中心管理
 例会
CATEGORIES:recurring
END:VEVENT
BEGIN:VEVENT
UID:36@nuxlabs.usc.edu.co
DTSTART:20200819T203000Z
DTEND:20200820T213000Z
DTSTAMP:20221021T140523Z
URL:https://nuxlabs.usc.edu.co/events/%e4%b8%ad%e5%bf%83%e7%ae%a1%e7%90%86
 %e4%be%8b%e4%bc%9a-2020-08-19/
SUMMARY:中心管理例会
DESCRIPTION:中心每周三晚20:30（北京时间）举行的中心管理
 例会
CATEGORIES:recurring
END:VEVENT
BEGIN:VEVENT
UID:37@nuxlabs.usc.edu.co
DTSTART:20200826T203000Z
DTEND:20200827T213000Z
DTSTAMP:20221021T140523Z
URL:https://nuxlabs.usc.edu.co/events/%e4%b8%ad%e5%bf%83%e7%ae%a1%e7%90%86
 %e4%be%8b%e4%bc%9a-2020-08-26/
SUMMARY:中心管理例会
DESCRIPTION:中心每周三晚20:30（北京时间）举行的中心管理
 例会
CATEGORIES:recurring
END:VEVENT
BEGIN:VEVENT
UID:38@nuxlabs.usc.edu.co
DTSTART:20200902T203000Z
DTEND:20200903T213000Z
DTSTAMP:20221021T140523Z
URL:https://nuxlabs.usc.edu.co/events/%e4%b8%ad%e5%bf%83%e7%ae%a1%e7%90%86
 %e4%be%8b%e4%bc%9a-2020-09-02/
SUMMARY:中心管理例会
DESCRIPTION:中心每周三晚20:30（北京时间）举行的中心管理
 例会
CATEGORIES:recurring
END:VEVENT
BEGIN:VEVENT
UID:39@nuxlabs.usc.edu.co
DTSTART:20200909T203000Z
DTEND:20200910T213000Z
DTSTAMP:20221021T140523Z
URL:https://nuxlabs.usc.edu.co/events/%e4%b8%ad%e5%bf%83%e7%ae%a1%e7%90%86
 %e4%be%8b%e4%bc%9a-2020-09-09/
SUMMARY:中心管理例会
DESCRIPTION:中心每周三晚20:30（北京时间）举行的中心管理
 例会
CATEGORIES:recurring
END:VEVENT
BEGIN:VEVENT
UID:40@nuxlabs.usc.edu.co
DTSTART:20200916T203000Z
DTEND:20200917T213000Z
DTSTAMP:20221021T140523Z
URL:https://nuxlabs.usc.edu.co/events/%e4%b8%ad%e5%bf%83%e7%ae%a1%e7%90%86
 %e4%be%8b%e4%bc%9a-2020-09-16/
SUMMARY:中心管理例会
DESCRIPTION:中心每周三晚20:30（北京时间）举行的中心管理
 例会
CATEGORIES:recurring
END:VEVENT
BEGIN:VEVENT
UID:41@nuxlabs.usc.edu.co
DTSTART:20200923T203000Z
DTEND:20200924T213000Z
DTSTAMP:20221021T140523Z
URL:https://nuxlabs.usc.edu.co/events/%e4%b8%ad%e5%bf%83%e7%ae%a1%e7%90%86
 %e4%be%8b%e4%bc%9a-2020-09-23/
SUMMARY:中心管理例会
DESCRIPTION:中心每周三晚20:30（北京时间）举行的中心管理
 例会
CATEGORIES:recurring
END:VEVENT
BEGIN:VEVENT
UID:42@nuxlabs.usc.edu.co
DTSTART:20200930T203000Z
DTEND:20201001T213000Z
DTSTAMP:20221021T140523Z
URL:https://nuxlabs.usc.edu.co/events/%e4%b8%ad%e5%bf%83%e7%ae%a1%e7%90%86
 %e4%be%8b%e4%bc%9a-2020-09-30/
SUMMARY:中心管理例会
DESCRIPTION:中心每周三晚20:30（北京时间）举行的中心管理
 例会
CATEGORIES:recurring
END:VEVENT
BEGIN:VEVENT
UID:43@nuxlabs.usc.edu.co
DTSTART:20201007T203000Z
DTEND:20201008T213000Z
DTSTAMP:20221021T140523Z
URL:https://nuxlabs.usc.edu.co/events/%e4%b8%ad%e5%bf%83%e7%ae%a1%e7%90%86
 %e4%be%8b%e4%bc%9a-2020-10-07/
SUMMARY:中心管理例会
DESCRIPTION:中心每周三晚20:30（北京时间）举行的中心管理
 例会
CATEGORIES:recurring
END:VEVENT
BEGIN:VEVENT
UID:44@nuxlabs.usc.edu.co
DTSTART:20201014T203000Z
DTEND:20201015T213000Z
DTSTAMP:20221021T140523Z
URL:https://nuxlabs.usc.edu.co/events/%e4%b8%ad%e5%bf%83%e7%ae%a1%e7%90%86
 %e4%be%8b%e4%bc%9a-2020-10-14/
SUMMARY:中心管理例会
DESCRIPTION:中心每周三晚20:30（北京时间）举行的中心管理
 例会
CATEGORIES:recurring
END:VEVENT
BEGIN:VEVENT
UID:45@nuxlabs.usc.edu.co
DTSTART:20201021T203000Z
DTEND:20201022T213000Z
DTSTAMP:20221021T140523Z
URL:https://nuxlabs.usc.edu.co/events/%e4%b8%ad%e5%bf%83%e7%ae%a1%e7%90%86
 %e4%be%8b%e4%bc%9a-2020-10-21/
SUMMARY:中心管理例会
DESCRIPTION:中心每周三晚20:30（北京时间）举行的中心管理
 例会
CATEGORIES:recurring
END:VEVENT
BEGIN:VEVENT
UID:46@nuxlabs.usc.edu.co
DTSTART:20201028T203000Z
DTEND:20201029T213000Z
DTSTAMP:20221021T140523Z
URL:https://nuxlabs.usc.edu.co/events/%e4%b8%ad%e5%bf%83%e7%ae%a1%e7%90%86
 %e4%be%8b%e4%bc%9a-2020-10-28/
SUMMARY:中心管理例会
DESCRIPTION:中心每周三晚20:30（北京时间）举行的中心管理
 例会
CATEGORIES:recurring
END:VEVENT
BEGIN:VEVENT
UID:47@nuxlabs.usc.edu.co
DTSTART:20201104T203000Z
DTEND:20201105T213000Z
DTSTAMP:20221021T140523Z
URL:https://nuxlabs.usc.edu.co/events/%e4%b8%ad%e5%bf%83%e7%ae%a1%e7%90%86
 %e4%be%8b%e4%bc%9a-2020-11-04/
SUMMARY:中心管理例会
DESCRIPTION:中心每周三晚20:30（北京时间）举行的中心管理
 例会
CATEGORIES:recurring
END:VEVENT
BEGIN:VEVENT
UID:48@nuxlabs.usc.edu.co
DTSTART:20201111T203000Z
DTEND:20201112T213000Z
DTSTAMP:20221021T140523Z
URL:https://nuxlabs.usc.edu.co/events/%e4%b8%ad%e5%bf%83%e7%ae%a1%e7%90%86
 %e4%be%8b%e4%bc%9a-2020-11-11/
SUMMARY:中心管理例会
DESCRIPTION:中心每周三晚20:30（北京时间）举行的中心管理
 例会
CATEGORIES:recurring
END:VEVENT
BEGIN:VEVENT
UID:49@nuxlabs.usc.edu.co
DTSTART:20201118T203000Z
DTEND:20201119T213000Z
DTSTAMP:20221021T140523Z
URL:https://nuxlabs.usc.edu.co/events/%e4%b8%ad%e5%bf%83%e7%ae%a1%e7%90%86
 %e4%be%8b%e4%bc%9a-2020-11-18/
SUMMARY:中心管理例会
DESCRIPTION:中心每周三晚20:30（北京时间）举行的中心管理
 例会
CATEGORIES:recurring
END:VEVENT
BEGIN:VEVENT
UID:50@nuxlabs.usc.edu.co
DTSTART:20201125T203000Z
DTEND:20201126T213000Z
DTSTAMP:20221021T140523Z
URL:https://nuxlabs.usc.edu.co/events/%e4%b8%ad%e5%bf%83%e7%ae%a1%e7%90%86
 %e4%be%8b%e4%bc%9a-2020-11-25/
SUMMARY:中心管理例会
DESCRIPTION:中心每周三晚20:30（北京时间）举行的中心管理
 例会
CATEGORIES:recurring
END:VEVENT
BEGIN:VEVENT
UID:51@nuxlabs.usc.edu.co
DTSTART:20201202T203000Z
DTEND:20201203T213000Z
DTSTAMP:20221021T140523Z
URL:https://nuxlabs.usc.edu.co/events/%e4%b8%ad%e5%bf%83%e7%ae%a1%e7%90%86
 %e4%be%8b%e4%bc%9a-2020-12-02/
SUMMARY:中心管理例会
DESCRIPTION:中心每周三晚20:30（北京时间）举行的中心管理
 例会
CATEGORIES:recurring
END:VEVENT
BEGIN:VEVENT
UID:52@nuxlabs.usc.edu.co
DTSTART:20201209T203000Z
DTEND:20201210T213000Z
DTSTAMP:20221021T140523Z
URL:https://nuxlabs.usc.edu.co/events/%e4%b8%ad%e5%bf%83%e7%ae%a1%e7%90%86
 %e4%be%8b%e4%bc%9a-2020-12-09/
SUMMARY:中心管理例会
DESCRIPTION:中心每周三晚20:30（北京时间）举行的中心管理
 例会
CATEGORIES:recurring
END:VEVENT
END:VCALENDAR